BEGIN:VCALENDAR
VERSION:2.0
PRODID:-//wp-events-plugin.com//7.2.3.1//EN
BEGIN:VEVENT
UID:9@dl.gov.bt
DTSTART;TZID=Asia/Thimphu:20260221T050000
DTEND;TZID=Asia/Thimphu:20260221T180000
DTSTAMP:20260406T042041Z
URL:https://dl.gov.bt/events/first-batch-of-the-monastic-cultural-exchange
 -programme-to-india-under-goi-funding/
SUMMARY:Exchange Program to India (February 21 – March 3\, 2026) Under Go
 I Funding
DESCRIPTION:The spiritual tour was accorded to  21 Lams and Lopens of Cent
 ral Monastic Body (Zhung Dratshang) to the following religions:\n\n1. Odis
 ha (Bhubaneswar)\n\n 	Udayagiri and Khandagiri Caves\n 	Dhauli Shanti Stup
 a\n 	Aragarh Buddhist Temple\n\n2. Telangana (Hyderabad)\n\n 	Amaravati St
 upa\n 	Dhyana Buddha Statue\n 	Archaeological Museum\n 	Nagarjunakonda Isl
 and Museum\n\n3. Maharashtra\n\n 	Ellora Caves\n 	Ajanta Caves\n 	Kanheri 
 Caves\n\n4. West Bengal (Kolkata)\n\n 	Maha Kali Mandir (Pelden Lhamoi Lha
 khang)\, Kalighat\n 	Kalighat Kali Temple\n 	Dakshineswar Kali Temple\n\nT
 he spiritual tour was funded by the Government of India. Such tours are pa
 rt of the 13th FYP of Dratshang Lhentshog.\n[video width="640" height="360
 " mp4="https://dl.gov.bt/wp-content/uploads/2026/04/Exchange-Programme-to-
 India.mp4"][/video]
ATTACH;FMTTYPE=image/jpeg:https://dl.gov.bt/wp-content/uploads/2026/04/5.j
 peg
CATEGORIES:Culture
END:VEVENT
BEGIN:VTIMEZONE
TZID:Asia/Thimphu
X-LIC-LOCATION:Asia/Thimphu
BEGIN:STANDARD
DTSTART:20250221T050000
TZOFFSETFROM:+0600
TZOFFSETTO:+0600
TZNAME:+06
END:STANDARD
END:VTIMEZONE
END:VCALENDAR