BEGIN:VCALENDAR
VERSION:2.0
PRODID:-//wp-events-plugin.com//7.2.3.1//EN
BEGIN:VEVENT
UID:10@dl.gov.bt
DTSTART;TZID=Asia/Thimphu:20260422T130000
DTEND;TZID=Asia/Thimphu:20260422T164500
DTSTAMP:20260424T085110Z
URL:https://dl.gov.bt/events/mid-term-review-mtr-presentation-to-the-honou
 rable-prime-minister/
SUMMARY:Mid-Term Review (MTR) Presentation to the Honourable Prime Minister
DESCRIPTION:The Dratshang Lhentshog secretariat presented its Mid-Term Revi
 ew (MTR) of the 13th Five-Year Plan on 22/4/2026\, chaired by the Honourab
 le Prime Minister in Thimphu. The presentation\, delivered by the Secretar
 y of an agency\, covered KPI achievements\, FYP activities\, financial uti
 lization\, activity reprioritization\, and key issues with recommendations
 . The Honourable Prime Minister commended the progress and emphasized stro
 nger coordination for timely implementation.\n 
ATTACH;FMTTYPE=image/jpeg:https://dl.gov.bt/wp-content/uploads/2026/04/1-1
 .jpg
CATEGORIES:Council Meetings
END:VEVENT
BEGIN:VTIMEZONE
TZID:Asia/Thimphu
X-LIC-LOCATION:Asia/Thimphu
BEGIN:STANDARD
DTSTART:20250422T130000
TZOFFSETFROM:+0600
TZOFFSETTO:+0600
TZNAME:+06
END:STANDARD
END:VTIMEZONE
END:VCALENDAR